git_url: https://git.bioconductor.org/packages/MultiAssayExperiment git_branch: RELEASE_3_13 git_last_commit: b1fa42c git_last_commit_date: 2021-05-19 12:19:17 -0400 (Wed, 19 May 2021) Package: MultiAssayExperiment Version: 1.18.0 Maintainer: Marcel Ramos MaintainerEmail: marcel.ramos at roswellpark.org