Package: MsFeatures Version: 1.0.0 Command: /home/biocbuild/bbs-3.13-bioc/R/bin/R CMD INSTALL MsFeatures StartedAt: 2021-10-14 06:12:11 -0400 (Thu, 14 Oct 2021) EndedAt: 2021-10-14 06:12:27 -0400 (Thu, 14 Oct 2021) EllapsedTime: 16.5 seconds RetCode: 0 Status: OK