Package: MouseFM Version: 1.2.0 Command: /home/biocbuild/bbs-3.13-bioc/R/bin/R CMD check --install=check:MouseFM.install-out.txt --library=/home/biocbuild/bbs-3.13-bioc/R/library --no-vignettes --timings MouseFM_1.2.0.tar.gz StartedAt: 2021-10-14 10:41:19 -0400 (Thu, 14 Oct 2021) EndedAt: 2021-10-14 10:44:32 -0400 (Thu, 14 Oct 2021) EllapsedTime: 193.8 seconds RetCode: 1 Status: ERROR CheckDir: MouseFM.Rcheck Warnings: NA