Package: MouseFM Version: 1.2.0 Command: /Library/Frameworks/R.framework/Versions/Current/Resources/bin/R CMD check --install=check:MouseFM.install-out.txt --library=/Library/Frameworks/R.framework/Versions/Current/Resources/library --no-vignettes --timings MouseFM_1.2.0.tar.gz StartedAt: 2021-10-14 21:23:35 -0400 (Thu, 14 Oct 2021) EndedAt: 2021-10-14 21:28:09 -0400 (Thu, 14 Oct 2021) EllapsedTime: 273.9 seconds RetCode: 1 Status: ERROR CheckDir: MouseFM.Rcheck Warnings: NA