Package: MouseFM Version: 1.2.0 Command: rm -rf MouseFM.buildbin-libdir && mkdir MouseFM.buildbin-libdir && /Users/biocbuild/BBS/utils/build-universal.sh MouseFM_1.2.0.tar.gz /Library/Frameworks/R.framework/Versions/Current/Resources/bin/R MouseFM.buildbin-libdir StartedAt: 2021-10-15 03:11:08 -0400 (Fri, 15 Oct 2021) EndedAt: 2021-10-15 03:12:12 -0400 (Fri, 15 Oct 2021) EllapsedTime: 64.1 seconds RetCode: 0 Status: OK PackageFile: MouseFM_1.2.0.tgz PackageFileSize: 802.4 KiB