Package: MoonlightR Version: 1.18.0 Command: /Library/Frameworks/R.framework/Versions/Current/Resources/bin/R CMD INSTALL MoonlightR StartedAt: 2021-10-14 09:50:57 -0400 (Thu, 14 Oct 2021) EndedAt: 2021-10-14 09:51:47 -0400 (Thu, 14 Oct 2021) EllapsedTime: 49.4 seconds RetCode: 0 Status: OK