Package: MinimumDistance Version: 1.36.0 Command: chmod a+r MinimumDistance -R && C:\Users\biocbuild\bbs-3.13-bioc\R\bin\R.exe CMD build --keep-empty-dirs --no-resave-data MinimumDistance StartedAt: 2021-10-14 15:43:21 -0400 (Thu, 14 Oct 2021) EndedAt: 2021-10-14 15:44:57 -0400 (Thu, 14 Oct 2021) EllapsedTime: 95.9 seconds RetCode: 0 Status: OK PackageFile: MinimumDistance_1.36.0.tar.gz PackageFileSize: 2.467 MiB