Package: MinimumDistance Version: 1.36.0 Command: /home/biocbuild/bbs-3.13-bioc/R/bin/R CMD check --install=check:MinimumDistance.install-out.txt --library=/home/biocbuild/bbs-3.13-bioc/R/library --no-vignettes --timings MinimumDistance_1.36.0.tar.gz StartedAt: 2021-10-14 10:36:35 -0400 (Thu, 14 Oct 2021) EndedAt: 2021-10-14 10:40:54 -0400 (Thu, 14 Oct 2021) EllapsedTime: 259.0 seconds RetCode: 0 Status: WARNINGS CheckDir: MinimumDistance.Rcheck Warnings: 5