Package: MinimumDistance Version: 1.36.0 Command: rm -rf MinimumDistance.buildbin-libdir && mkdir MinimumDistance.buildbin-libdir && /Users/biocbuild/BBS/utils/build-universal.sh MinimumDistance_1.36.0.tar.gz /Library/Frameworks/R.framework/Versions/Current/Resources/bin/R MinimumDistance.buildbin-libdir StartedAt: 2021-10-15 03:07:16 -0400 (Fri, 15 Oct 2021) EndedAt: 2021-10-15 03:08:31 -0400 (Fri, 15 Oct 2021) EllapsedTime: 74.5 seconds RetCode: 0 Status: OK PackageFile: MinimumDistance_1.36.0.tgz PackageFileSize: 3.575 MiB