Package: MineICA Version: 1.32.0 Command: /Library/Frameworks/R.framework/Versions/Current/Resources/bin/R CMD INSTALL MineICA StartedAt: 2021-10-14 10:21:57 -0400 (Thu, 14 Oct 2021) EndedAt: 2021-10-14 10:22:51 -0400 (Thu, 14 Oct 2021) EllapsedTime: 53.7 seconds RetCode: 0 Status: OK