git_url: https://git.bioconductor.org/packages/MineICA git_branch: RELEASE_3_13 git_last_commit: def84c7 git_last_commit_date: 2021-05-19 11:57:33 -0400 (Wed, 19 May 2021) Package: MineICA Version: 1.32.0 Maintainer: Anne Biton MaintainerEmail: anne.biton at gmail.com