Package: MicrobiotaProcess Version: 1.4.4 Command: /home/biocbuild/bbs-3.13-bioc/R/bin/R CMD build --keep-empty-dirs --no-resave-data MicrobiotaProcess StartedAt: 2021-10-14 07:44:29 -0400 (Thu, 14 Oct 2021) EndedAt: 2021-10-14 07:46:33 -0400 (Thu, 14 Oct 2021) EllapsedTime: 123.5 seconds RetCode: 0 Status: OK PackageFile: MicrobiotaProcess_1.4.4.tar.gz PackageFileSize: 2.479 MiB