Package: MiRaGE Version: 1.34.0 Command: chmod a+r MiRaGE -R && C:\Users\biocbuild\bbs-3.13-bioc\R\bin\R.exe CMD build --keep-empty-dirs --no-resave-data MiRaGE StartedAt: 2021-10-14 15:44:19 -0400 (Thu, 14 Oct 2021) EndedAt: 2021-10-14 15:46:01 -0400 (Thu, 14 Oct 2021) EllapsedTime: 101.9 seconds RetCode: 0 Status: OK PackageFile: MiRaGE_1.34.0.tar.gz PackageFileSize: 1.177 MiB