Package: MiRaGE Version: 1.34.0 Command: /home/biocbuild/bbs-3.13-bioc/R/bin/R CMD build --keep-empty-dirs --no-resave-data MiRaGE StartedAt: 2021-10-14 07:45:11 -0400 (Thu, 14 Oct 2021) EndedAt: 2021-10-14 07:46:10 -0400 (Thu, 14 Oct 2021) EllapsedTime: 58.2 seconds RetCode: 0 Status: OK PackageFile: MiRaGE_1.34.0.tar.gz PackageFileSize: 1.176 MiB