Package: MethylMix Version: 2.22.0 Command: /Library/Frameworks/R.framework/Versions/Current/Resources/bin/R CMD check --install=check:MethylMix.install-out.txt --library=/Library/Frameworks/R.framework/Versions/Current/Resources/library --no-vignettes --timings MethylMix_2.22.0.tar.gz StartedAt: 2021-10-14 20:59:55 -0400 (Thu, 14 Oct 2021) EndedAt: 2021-10-14 21:02:53 -0400 (Thu, 14 Oct 2021) EllapsedTime: 177.4 seconds RetCode: 0 Status: OK CheckDir: MethylMix.Rcheck Warnings: 0