Package: MethylMix Version: 2.22.0 Command: rm -rf MethylMix.buildbin-libdir && mkdir MethylMix.buildbin-libdir && /Users/biocbuild/BBS/utils/build-universal.sh MethylMix_2.22.0.tar.gz /Library/Frameworks/R.framework/Versions/Current/Resources/bin/R MethylMix.buildbin-libdir StartedAt: 2021-10-15 03:04:30 -0400 (Fri, 15 Oct 2021) EndedAt: 2021-10-15 03:05:35 -0400 (Fri, 15 Oct 2021) EllapsedTime: 65.3 seconds RetCode: 0 Status: OK PackageFile: MethylMix_2.22.0.tgz PackageFileSize: 3.025 MiB