Package: MethylAid Version: 1.26.0 Command: /home/biocbuild/bbs-3.13-bioc/R/bin/R CMD INSTALL MethylAid StartedAt: 2021-10-14 06:25:30 -0400 (Thu, 14 Oct 2021) EndedAt: 2021-10-14 06:26:10 -0400 (Thu, 14 Oct 2021) EllapsedTime: 40.0 seconds RetCode: 0 Status: OK