Package: MethTargetedNGS Version: 1.24.0 Command: /Library/Frameworks/R.framework/Versions/Current/Resources/bin/R CMD INSTALL MethTargetedNGS StartedAt: 2021-10-14 08:40:10 -0400 (Thu, 14 Oct 2021) EndedAt: 2021-10-14 08:40:57 -0400 (Thu, 14 Oct 2021) EllapsedTime: 47.4 seconds RetCode: 0 Status: OK