Package: MethReg Version: 1.2.1 Command: /Library/Frameworks/R.framework/Versions/Current/Resources/bin/R CMD check --install=check:MethReg.install-out.txt --library=/Library/Frameworks/R.framework/Versions/Current/Resources/library --no-vignettes --timings MethReg_1.2.1.tar.gz StartedAt: 2021-10-14 20:57:00 -0400 (Thu, 14 Oct 2021) EndedAt: 2021-10-14 21:05:24 -0400 (Thu, 14 Oct 2021) EllapsedTime: 503.3 seconds RetCode: 0 Status: OK CheckDir: MethReg.Rcheck Warnings: 0