Package: MetaboCoreUtils Version: 1.0.0 Command: C:\Users\biocbuild\bbs-3.13-bioc\R\bin\R.exe CMD check --force-multiarch --install=check:MetaboCoreUtils.install-out.txt --library=C:\Users\biocbuild\bbs-3.13-bioc\R\library --no-vignettes --timings MetaboCoreUtils_1.0.0.tar.gz StartedAt: 2021-10-15 01:34:36 -0400 (Fri, 15 Oct 2021) EndedAt: 2021-10-15 01:35:09 -0400 (Fri, 15 Oct 2021) EllapsedTime: 32.8 seconds RetCode: 0 Status: OK CheckDir: MetaboCoreUtils.Rcheck Warnings: 0