Package: MetaboCoreUtils Version: 1.0.0 Command: chmod a+r MetaboCoreUtils -R && C:\Users\biocbuild\bbs-3.13-bioc\R\bin\R.exe CMD build --keep-empty-dirs --no-resave-data MetaboCoreUtils StartedAt: 2021-10-14 15:30:08 -0400 (Thu, 14 Oct 2021) EndedAt: 2021-10-14 15:30:18 -0400 (Thu, 14 Oct 2021) EllapsedTime: 9.4 seconds RetCode: 0 Status: OK PackageFile: MetaboCoreUtils_1.0.0.tar.gz PackageFileSize: 296.2 KiB