Package: MetaVolcanoR Version: 1.6.0 Command: /Library/Frameworks/R.framework/Versions/Current/Resources/bin/R CMD INSTALL MetaVolcanoR StartedAt: 2021-10-14 09:36:09 -0400 (Thu, 14 Oct 2021) EndedAt: 2021-10-14 09:36:55 -0400 (Thu, 14 Oct 2021) EllapsedTime: 46.1 seconds RetCode: 0 Status: OK