Package: MetaVolcanoR Version: 1.6.0 Command: rm -rf MetaVolcanoR.buildbin-libdir && mkdir MetaVolcanoR.buildbin-libdir && /Users/biocbuild/BBS/utils/build-universal.sh MetaVolcanoR_1.6.0.tar.gz /Library/Frameworks/R.framework/Versions/Current/Resources/bin/R MetaVolcanoR.buildbin-libdir StartedAt: 2021-10-15 03:03:09 -0400 (Fri, 15 Oct 2021) EndedAt: 2021-10-15 03:04:09 -0400 (Fri, 15 Oct 2021) EllapsedTime: 59.4 seconds RetCode: 0 Status: OK PackageFile: MetaVolcanoR_1.6.0.tgz PackageFileSize: 2.009 MiB