git_url: https://git.bioconductor.org/packages/MetID git_branch: RELEASE_3_13 git_last_commit: 3378aab git_last_commit_date: 2021-05-19 12:36:54 -0400 (Wed, 19 May 2021) Package: MetID Version: 1.10.0 Maintainer: Zhenzhi Li MaintainerEmail: zzrickli at gmail.com