Package: MeasurementError.cor Version: 1.64.0 Command: C:\cygwin\bin\curl.exe -O http://155.52.207.165/BBS/3.13/bioc/src/contrib/MeasurementError.cor_1.64.0.tar.gz && rm -rf MeasurementError.cor.buildbin-libdir && mkdir MeasurementError.cor.buildbin-libdir && C:\Users\biocbuild\bbs-3.13-bioc\R\bin\R.exe CMD INSTALL --merge-multiarch --build --library=MeasurementError.cor.buildbin-libdir MeasurementError.cor_1.64.0.tar.gz && C:\Users\biocbuild\bbs-3.13-bioc\R\bin\R.exe CMD INSTALL MeasurementError.cor_1.64.0.zip && rm MeasurementError.cor_1.64.0.tar.gz MeasurementError.cor_1.64.0.zip StartedAt: 2021-10-14 06:49:03 -0400 (Thu, 14 Oct 2021) EndedAt: 2021-10-14 06:50:23 -0400 (Thu, 14 Oct 2021) EllapsedTime: 79.7 seconds RetCode: 0 Status: OK