Package: MatrixGenerics Version: 1.4.3 Command: C:\cygwin\bin\curl.exe -O http://155.52.207.165/BBS/3.13/bioc/src/contrib/MatrixGenerics_1.4.3.tar.gz && rm -rf MatrixGenerics.buildbin-libdir && mkdir MatrixGenerics.buildbin-libdir && C:\Users\biocbuild\bbs-3.13-bioc\R\bin\R.exe CMD INSTALL --merge-multiarch --build --library=MatrixGenerics.buildbin-libdir MatrixGenerics_1.4.3.tar.gz && C:\Users\biocbuild\bbs-3.13-bioc\R\bin\R.exe CMD INSTALL MatrixGenerics_1.4.3.zip && rm MatrixGenerics_1.4.3.tar.gz MatrixGenerics_1.4.3.zip StartedAt: 2021-10-14 06:53:03 -0400 (Thu, 14 Oct 2021) EndedAt: 2021-10-14 06:56:38 -0400 (Thu, 14 Oct 2021) EllapsedTime: 214.2 seconds RetCode: 0 Status: OK