Package: MatrixGenerics Version: 1.4.3 Command: chmod a+r MatrixGenerics -R && C:\Users\biocbuild\bbs-3.13-bioc\R\bin\R.exe CMD build --keep-empty-dirs --no-resave-data MatrixGenerics StartedAt: 2021-10-14 15:23:52 -0400 (Thu, 14 Oct 2021) EndedAt: 2021-10-14 15:24:42 -0400 (Thu, 14 Oct 2021) EllapsedTime: 50.0 seconds RetCode: 0 Status: OK PackageFile: MatrixGenerics_1.4.3.tar.gz PackageFileSize: 27.61 KiB