Package: MatrixGenerics Version: 1.4.3 Command: rm -rf MatrixGenerics.buildbin-libdir && mkdir MatrixGenerics.buildbin-libdir && C:\Users\biocbuild\bbs-3.13-bioc\R\bin\R.exe CMD INSTALL --merge-multiarch --build --library=MatrixGenerics.buildbin-libdir MatrixGenerics_1.4.3.tar.gz StartedAt: 2021-10-15 10:12:31 -0400 (Fri, 15 Oct 2021) EndedAt: 2021-10-15 10:14:03 -0400 (Fri, 15 Oct 2021) EllapsedTime: 91.4 seconds RetCode: 0 Status: OK PackageFile: MatrixGenerics_1.4.3.zip PackageFileSize: 430.7 KiB