Package: MatrixGenerics Version: 1.4.3 Command: /home/biocbuild/bbs-3.13-bioc/R/bin/R CMD check --install=check:MatrixGenerics.install-out.txt --library=/home/biocbuild/bbs-3.13-bioc/R/library --no-vignettes --timings MatrixGenerics_1.4.3.tar.gz StartedAt: 2021-10-14 10:27:09 -0400 (Thu, 14 Oct 2021) EndedAt: 2021-10-14 10:27:31 -0400 (Thu, 14 Oct 2021) EllapsedTime: 22.0 seconds RetCode: 0 Status: OK CheckDir: MatrixGenerics.Rcheck Warnings: 0