Package: MatrixGenerics Version: 1.4.3 Command: /Library/Frameworks/R.framework/Versions/Current/Resources/bin/R CMD INSTALL MatrixGenerics StartedAt: 2021-10-14 08:08:40 -0400 (Thu, 14 Oct 2021) EndedAt: 2021-10-14 08:09:20 -0400 (Thu, 14 Oct 2021) EllapsedTime: 39.6 seconds RetCode: 0 Status: OK