Package: MatrixGenerics Version: 1.4.3 Command: /Library/Frameworks/R.framework/Versions/Current/Resources/bin/R CMD check --install=check:MatrixGenerics.install-out.txt --library=/Library/Frameworks/R.framework/Versions/Current/Resources/library --no-vignettes --timings MatrixGenerics_1.4.3.tar.gz StartedAt: 2021-10-14 20:42:24 -0400 (Thu, 14 Oct 2021) EndedAt: 2021-10-14 20:43:02 -0400 (Thu, 14 Oct 2021) EllapsedTime: 37.9 seconds RetCode: 0 Status: OK CheckDir: MatrixGenerics.Rcheck Warnings: 0