Package: MatrixGenerics Version: 1.4.3 Command: /Library/Frameworks/R.framework/Versions/Current/Resources/bin/R CMD build --keep-empty-dirs --no-resave-data MatrixGenerics StartedAt: 2021-10-14 13:00:08 -0400 (Thu, 14 Oct 2021) EndedAt: 2021-10-14 13:00:30 -0400 (Thu, 14 Oct 2021) EllapsedTime: 22.1 seconds RetCode: 0 Status: OK PackageFile: MatrixGenerics_1.4.3.tar.gz PackageFileSize: 27.67 KiB