Package: MatrixGenerics Version: 1.4.3 Command: rm -rf MatrixGenerics.buildbin-libdir && mkdir MatrixGenerics.buildbin-libdir && /Users/biocbuild/BBS/utils/build-universal.sh MatrixGenerics_1.4.3.tar.gz /Library/Frameworks/R.framework/Versions/Current/Resources/bin/R MatrixGenerics.buildbin-libdir StartedAt: 2021-10-15 02:58:54 -0400 (Fri, 15 Oct 2021) EndedAt: 2021-10-15 02:59:58 -0400 (Fri, 15 Oct 2021) EllapsedTime: 63.5 seconds RetCode: 0 Status: OK PackageFile: MatrixGenerics_1.4.3.tgz PackageFileSize: 304.7 KiB