Package: Maaslin2 Version: 1.6.0 Command: /home/biocbuild/bbs-3.13-bioc/R/bin/R CMD build --keep-empty-dirs --no-resave-data Maaslin2 StartedAt: 2021-10-14 07:36:48 -0400 (Thu, 14 Oct 2021) EndedAt: 2021-10-14 07:38:04 -0400 (Thu, 14 Oct 2021) EllapsedTime: 76.6 seconds RetCode: 0 Status: OK PackageFile: Maaslin2_1.6.0.tar.gz PackageFileSize: 667.7 KiB