Package: Maaslin2 Version: 1.6.0 Command: /Library/Frameworks/R.framework/Versions/Current/Resources/bin/R CMD check --install=check:Maaslin2.install-out.txt --library=/Library/Frameworks/R.framework/Versions/Current/Resources/library --no-vignettes --timings Maaslin2_1.6.0.tar.gz StartedAt: 2021-10-14 20:35:16 -0400 (Thu, 14 Oct 2021) EndedAt: 2021-10-14 20:38:32 -0400 (Thu, 14 Oct 2021) EllapsedTime: 196.4 seconds RetCode: 0 Status: WARNINGS CheckDir: Maaslin2.Rcheck Warnings: 1