Package: MWASTools Version: 1.16.0 Command: rm -rf MWASTools.buildbin-libdir && mkdir MWASTools.buildbin-libdir && /Users/biocbuild/BBS/utils/build-universal.sh MWASTools_1.16.0.tar.gz /Library/Frameworks/R.framework/Versions/Current/Resources/bin/R MWASTools.buildbin-libdir StartedAt: 2021-10-15 03:15:31 -0400 (Fri, 15 Oct 2021) EndedAt: 2021-10-15 03:16:35 -0400 (Fri, 15 Oct 2021) EllapsedTime: 64.8 seconds RetCode: 0 Status: OK PackageFile: MWASTools_1.16.0.tgz PackageFileSize: 2.873 MiB