Package: MSstatsQCgui Version: 1.12.0 Command: /Library/Frameworks/R.framework/Versions/Current/Resources/bin/R CMD check --install=check:MSstatsQCgui.install-out.txt --library=/Library/Frameworks/R.framework/Versions/Current/Resources/library --no-vignettes --timings MSstatsQCgui_1.12.0.tar.gz StartedAt: 2021-10-14 21:30:31 -0400 (Thu, 14 Oct 2021) EndedAt: 2021-10-14 21:33:10 -0400 (Thu, 14 Oct 2021) EllapsedTime: 158.2 seconds RetCode: 0 Status: OK CheckDir: MSstatsQCgui.Rcheck Warnings: 0