Package: MSstatsQC Version: 2.10.0 Command: chmod a+r MSstatsQC -R && C:\Users\biocbuild\bbs-3.13-bioc\R\bin\R.exe CMD build --keep-empty-dirs --no-resave-data MSstatsQC StartedAt: 2021-10-14 15:57:51 -0400 (Thu, 14 Oct 2021) EndedAt: 2021-10-14 16:00:18 -0400 (Thu, 14 Oct 2021) EllapsedTime: 147.2 seconds RetCode: 0 Status: OK PackageFile: MSstatsQC_2.10.0.tar.gz PackageFileSize: 1.365 MiB