Package: MSstatsQC Version: 2.10.0 Command: /home/biocbuild/bbs-3.13-bioc/R/bin/R CMD check --install=check:MSstatsQC.install-out.txt --library=/home/biocbuild/bbs-3.13-bioc/R/library --no-vignettes --timings MSstatsQC_2.10.0.tar.gz StartedAt: 2021-10-14 10:44:00 -0400 (Thu, 14 Oct 2021) EndedAt: 2021-10-14 10:45:58 -0400 (Thu, 14 Oct 2021) EllapsedTime: 117.5 seconds RetCode: 0 Status: OK CheckDir: MSstatsQC.Rcheck Warnings: 0