Package: MSstatsQC Version: 2.10.0 Command: /Library/Frameworks/R.framework/Versions/Current/Resources/bin/R CMD INSTALL MSstatsQC StartedAt: 2021-10-14 09:36:02 -0400 (Thu, 14 Oct 2021) EndedAt: 2021-10-14 09:36:48 -0400 (Thu, 14 Oct 2021) EllapsedTime: 45.8 seconds RetCode: 0 Status: OK