Package: MSstatsQC Version: 2.10.0 Command: /Library/Frameworks/R.framework/Versions/Current/Resources/bin/R CMD check --install=check:MSstatsQC.install-out.txt --library=/Library/Frameworks/R.framework/Versions/Current/Resources/library --no-vignettes --timings MSstatsQC_2.10.0.tar.gz StartedAt: 2021-10-14 21:29:48 -0400 (Thu, 14 Oct 2021) EndedAt: 2021-10-14 21:32:54 -0400 (Thu, 14 Oct 2021) EllapsedTime: 185.9 seconds RetCode: 0 Status: OK CheckDir: MSstatsQC.Rcheck Warnings: 0