Package: MSstatsLOBD Version: 1.0.0 Command: chmod a+r MSstatsLOBD -R && C:\Users\biocbuild\bbs-3.13-bioc\R\bin\R.exe CMD build --keep-empty-dirs --no-resave-data MSstatsLOBD StartedAt: 2021-10-14 15:57:08 -0400 (Thu, 14 Oct 2021) EndedAt: 2021-10-14 15:57:42 -0400 (Thu, 14 Oct 2021) EllapsedTime: 33.9 seconds RetCode: 0 Status: OK PackageFile: MSstatsLOBD_1.0.0.tar.gz PackageFileSize: 129.4 KiB