Package: MSstatsLOBD Version: 1.0.0 Command: /home/biocbuild/bbs-3.13-bioc/R/bin/R CMD build --keep-empty-dirs --no-resave-data MSstatsLOBD StartedAt: 2021-10-14 07:48:37 -0400 (Thu, 14 Oct 2021) EndedAt: 2021-10-14 07:48:53 -0400 (Thu, 14 Oct 2021) EllapsedTime: 15.9 seconds RetCode: 0 Status: OK PackageFile: MSstatsLOBD_1.0.0.tar.gz PackageFileSize: 290.6 KiB