Package: MSstatsLOBD Version: 1.0.0 Command: rm -rf MSstatsLOBD.buildbin-libdir && mkdir MSstatsLOBD.buildbin-libdir && /Users/biocbuild/BBS/utils/build-universal.sh MSstatsLOBD_1.0.0.tar.gz /Library/Frameworks/R.framework/Versions/Current/Resources/bin/R MSstatsLOBD.buildbin-libdir StartedAt: 2021-10-15 03:13:04 -0400 (Fri, 15 Oct 2021) EndedAt: 2021-10-15 03:14:10 -0400 (Fri, 15 Oct 2021) EllapsedTime: 65.8 seconds RetCode: 0 Status: OK PackageFile: MSstatsLOBD_1.0.0.tgz PackageFileSize: 321.5 KiB