Package: MSstatsConvert Version: 1.2.2 Command: C:\Users\biocbuild\bbs-3.13-bioc\R\bin\R.exe CMD check --force-multiarch --install=check:MSstatsConvert.install-out.txt --library=C:\Users\biocbuild\bbs-3.13-bioc\R\library --no-vignettes --timings MSstatsConvert_1.2.2.tar.gz StartedAt: 2021-10-15 02:23:05 -0400 (Fri, 15 Oct 2021) EndedAt: 2021-10-15 02:23:58 -0400 (Fri, 15 Oct 2021) EllapsedTime: 52.7 seconds RetCode: 0 Status: OK CheckDir: MSstatsConvert.Rcheck Warnings: 0