Package: MSstatsConvert Version: 1.2.2 Command: chmod a+r MSstatsConvert -R && C:\Users\biocbuild\bbs-3.13-bioc\R\bin\R.exe CMD build --keep-empty-dirs --no-resave-data MSstatsConvert StartedAt: 2021-10-14 15:56:58 -0400 (Thu, 14 Oct 2021) EndedAt: 2021-10-14 15:59:18 -0400 (Thu, 14 Oct 2021) EllapsedTime: 140.2 seconds RetCode: 0 Status: OK PackageFile: MSstatsConvert_1.2.2.tar.gz PackageFileSize: 539.8 KiB