Package: MSstatsConvert Version: 1.2.2 Command: /Library/Frameworks/R.framework/Versions/Current/Resources/bin/R CMD build --keep-empty-dirs --no-resave-data MSstatsConvert StartedAt: 2021-10-14 13:25:27 -0400 (Thu, 14 Oct 2021) EndedAt: 2021-10-14 13:25:37 -0400 (Thu, 14 Oct 2021) EllapsedTime: 10.4 seconds RetCode: 0 Status: OK PackageFile: MSstatsConvert_1.2.2.tar.gz PackageFileSize: 539.9 KiB