Package: MSnID Version: 1.26.0 Command: rm -rf MSnID.buildbin-libdir && mkdir MSnID.buildbin-libdir && /Users/biocbuild/BBS/utils/build-universal.sh MSnID_1.26.0.tar.gz /Library/Frameworks/R.framework/Versions/Current/Resources/bin/R MSnID.buildbin-libdir StartedAt: 2021-10-15 03:12:33 -0400 (Fri, 15 Oct 2021) EndedAt: 2021-10-15 03:13:37 -0400 (Fri, 15 Oct 2021) EllapsedTime: 63.9 seconds RetCode: 0 Status: OK PackageFile: MSnID_1.26.0.tgz PackageFileSize: 3.926 MiB