Package: MSGFgui Version: 1.26.0 Command: C:\Users\biocbuild\bbs-3.13-bioc\R\bin\R.exe --arch x64 CMD INSTALL --no-multiarch MSGFgui StartedAt: 2021-10-14 08:17:21 -0400 (Thu, 14 Oct 2021) EndedAt: 2021-10-14 08:18:29 -0400 (Thu, 14 Oct 2021) EllapsedTime: 68.4 seconds RetCode: 0 Status: OK