Package: MQmetrics Version: 1.0.0 Command: /home/biocbuild/bbs-3.13-bioc/R/bin/R CMD build --keep-empty-dirs --no-resave-data MQmetrics StartedAt: 2021-10-14 07:47:42 -0400 (Thu, 14 Oct 2021) EndedAt: 2021-10-14 07:48:16 -0400 (Thu, 14 Oct 2021) EllapsedTime: 33.3 seconds RetCode: 0 Status: OK PackageFile: MQmetrics_1.0.0.tar.gz PackageFileSize: 3.892 MiB